BEGIN:VCALENDAR
VERSION:2.0
PRODID:-//ChamberMaster//Event Calendar 2.0//EN
METHOD:PUBLISH
X-PUBLISHED-TTL:P3D
REFRESH-INTERVAL:P3D
CALSCALE:GREGORIAN
BEGIN:VEVENT
DTSTART:20100408T223000Z
DTEND:20100409T000000Z
X-MICROSOFT-CDO-ALLDAYEVENT:FALSE
SUMMARY:Reception for UTPA President\, Dr. Robert Nelsen
DESCRIPTION:The Harlingen Area Chamber of Commerce &\n\n        Harlingen Hispanic Chamber of Commerce\n\n        cordially invite you to a reception in honor of \n    \n    \n        Dr. Robert S. Nelson \n        \n\n        President\n\n        The University of Texas Pan American \n    \n    \n        Thursday\, April 8\, 2010\n\n        5:30 pm - 7:00 pm\n\n        Texas Room at Golden Palms\n\n        2101 Treasure Hills Blvd. | 6th Floor | Harlingen \n    \n    \n        RSVP to (956) 423-5440 or online. \n    \n    \n        Sponsors: \n    \n    \n        Shepard Walton King Insurance Group\n\n        Texas Gas Service Company\n\n        Texas State Technical College
X-ALT-DESC;FMTTYPE=text/html:<html>\n<head>\n</head>\n<body>\n    <p align="center">\n        <font face="Verdana" size="2">The Harlingen Area Chamber of Commerce &amp\;<br />\n        Harlingen Hispanic Chamber of Commerce<br />\n        cordially invite you to a reception in honor of</font> \n    </p>\n    <p align="center">\n        <font face="Verdana"><strong>Dr. Robert S. Nelson</strong> \n        <br />\n        President<br />\n        The University of Texas Pan American</font> \n    </p>\n    <p align="center">\n        <font face="Verdana">Thursday\, April 8\, 2010<br />\n        5:30 pm - 7:00 pm<br />\n        Texas Room at Golden Palms<br />\n        2101 Treasure Hills Blvd. | 6th Floor | Harlingen</font> \n    </p>\n    <p align="center">\n        <font face="Verdana">RSVP to (956) 423-5440 or online.</font> \n    </p>\n    <p align="center">\n        <font face="Verdana" size="2">Sponsors:</font> \n    </p>\n    <p align="center">\n        <em><font face="Verdana" size="2">Shepard Walton King Insurance Group<br />\n        Texas Gas Service Company<br />\n        Texas State Technical College</font></em>\n    </p>\n</body>\n</html>\n
LOCATION:Reception will be held at the Texas Room located on the sixth floor at Golden Palms
UID:e.1828.2456
SEQUENCE:3
DTSTAMP:20260422T080833Z
URL:https://business.harlingen.com/events/details/reception-for-utpa-president-dr-robert-nelsen-04-08-2010-2456
END:VEVENT

END:VCALENDAR
