BEGIN:VCALENDAR
VERSION:2.0
PRODID:-//ChamberMaster//Event Calendar 2.0//EN
METHOD:PUBLISH
X-PUBLISHED-TTL:P3D
REFRESH-INTERVAL:P3D
CALSCALE:GREGORIAN
BEGIN:VEVENT
DTSTART:20120228T233000Z
DTEND:20120229T010000Z
X-MICROSOFT-CDO-ALLDAYEVENT:FALSE
SUMMARY:Reception honoring James E. Eastham
DESCRIPTION:You are cordially invited to a Reception honoring James E. Eastham\, President & CEO of Valley Baptist Health System for his years of service to Valley Baptist and his new position with Vanguard Health Systems  \nTuesday\, February 28\, 2012\n5:30 pm to 7 pm\nPresentation at 6 pm  \nWoodward Conference Center at\nValley Baptist Medical Center - Harlingen \nPlease RSVP (956) 389-1615
X-ALT-DESC;FMTTYPE=text/html:You are cordially invited to a Reception honoring James E. Eastham\, President & CEO of Valley Baptist Health System for his years of service to Valley Baptist and his new position with Vanguard Health Systems  \nTuesday\, February 28\, 2012\n5:30 pm to 7 pm\nPresentation at 6 pm  \nWoodward Conference Center at\nValley Baptist Medical Center - Harlingen \nPlease RSVP (956) 389-1615\n
LOCATION:Woodward Conference Ceter
UID:e.1828.3478
SEQUENCE:3
DTSTAMP:20260420T195249Z
URL:https://business.harlingen.com/events/details/reception-honoring-james-e-eastham-02-28-2012-3478
END:VEVENT

END:VCALENDAR
