BEGIN:VCALENDAR
VERSION:2.0
PRODID:-//ChamberMaster//Event Calendar 2.0//EN
METHOD:PUBLISH
X-PUBLISHED-TTL:P3D
REFRESH-INTERVAL:P3D
CALSCALE:GREGORIAN
BEGIN:VEVENT
DTSTART:20100803T223000Z
DTEND:20100803T223000Z
X-MICROSOFT-CDO-ALLDAYEVENT:FALSE
SUMMARY:Reception Honoring Nora Castañeda-Rivas
DESCRIPTION:Please join the Harlingen Area Chamber of Commerce Board of Directors and staff  at a reception honoring \nNora Castañeda-Rivas for her recent appointment by Governor Rick Perry to the ADVISORY COUNCIL ON EMERGENCY MEDICAL SERVICES.  Please call 423-5440 to RSVP or email Kathy Wolf at kwolf@harlingen.com.
X-ALT-DESC;FMTTYPE=text/html:Please join the Harlingen Area Chamber of Commerce Board of Directors and staff  at a reception honoring \nNora Castañeda-Rivas for her recent appointment by Governor Rick Perry to the ADVISORY COUNCIL ON EMERGENCY MEDICAL SERVICES.  Please call 423-5440 to RSVP or email Kathy Wolf at kwolf@harlingen.com. \n
LOCATION:
UID:e.1828.2624
SEQUENCE:3
DTSTAMP:20260422T001510Z
URL:https://business.harlingen.com/events/details/reception-honoring-nora-casta&#241;eda-rivas-08-03-2010-2624
END:VEVENT

END:VCALENDAR
