BEGIN:VCALENDAR
VERSION:2.0
PRODID:-//ChamberMaster//Event Calendar 2.0//EN
METHOD:PUBLISH
X-PUBLISHED-TTL:P3D
REFRESH-INTERVAL:P3D
CALSCALE:GREGORIAN
BEGIN:VEVENT
DTSTART;VALUE=DATE:20120227
DTEND;VALUE=DATE:20120228
TRANSP:TRANSPARENT
X-MICROSOFT-CDO-ALLDAYEVENT:TRUE
SUMMARY:Reel Trade-In Bass Pro Shops 2012 Spring Fishing Classics
DESCRIPTION:*Reel Trade-In\nFebruary 24-29\, 2012\nPass-It-On Booth \nLocated near the  front entrance of the door. Customer can bring their reel (which will be inspected that it is in good working condition) and will receive a discount coupon to use towards their new rod. \nAll  collected reels will be donated to local youth organization\, Fishing's Future and Kids Fish Program to help with their outdoor education program.\n \nContact information Elizabeth Ulloa Promotions Coordinator mail to:eulloa@basspro.com
X-ALT-DESC;FMTTYPE=text/html:*Reel Trade-In\nFebruary 24-29\, 2012\nPass-It-On Booth \nLocated near the  front entrance of the door. Customer can bring their reel (which will be inspected that it is in good working condition) and will receive a discount coupon to use towards their new rod. \nAll  collected reels will be donated to local youth organization\, Fishing's Future and Kids Fish Program to help with their outdoor education program.\n \nContact information Elizabeth Ulloa Promotions Coordinator mail to:eulloa@basspro.com
LOCATION:
UID:e.1828.3507
SEQUENCE:3
DTSTAMP:20260420T200623Z
URL:https://business.harlingen.com/events/details/reel-trade-in-bass-pro-shops-2012-spring-fishing-classics-02-27-2012-3507
END:VEVENT

END:VCALENDAR
