BEGIN:VCALENDAR
VERSION:2.0
PRODID:-//ChamberMaster//Event Calendar 2.0//EN
METHOD:PUBLISH
X-PUBLISHED-TTL:P3D
REFRESH-INTERVAL:P3D
CALSCALE:GREGORIAN
BEGIN:VEVENT
DTSTART:20120211T150000Z
DTEND:20120211T210000Z
X-MICROSOFT-CDO-ALLDAYEVENT:FALSE
SUMMARY:Registration for the Valley Byliners 2012 Workshop
DESCRIPTION:Now is your opportunity to pay only $40 for interactive learning and fun with leader Laurel Bill\, ward-winning journalist and author of Aunt Phil's Trunk Alaskan history book series. Anticipate lively narratives on:\n•How to get started\n•Pros and Cons of four kinds of publishing\n•Marketing tips to make your plan work  \nBonus handouts with 200-plus Websites that offer free book marketing and author tools!  \n\nEary registration:$35.00\, make checks payable to : Valley Byliners\, c/o Jose Alvarez\, 130 Pizarro Ave\, Rancho Viejo\, TX.  78575. after January 1st\, $40.00 by mail or pay at workshop\, 8:30am.
X-ALT-DESC;FMTTYPE=text/html:Now is your opportunity to pay only $40 for interactive learning and fun with leader Laurel Bill\, ward-winning journalist and author of Aunt Phil's Trunk Alaskan history book series. Anticipate lively narratives on:\n•How to get started\n•Pros and Cons of four kinds of publishing\n•Marketing tips to make your plan work  \nBonus handouts with 200-plus Websites that offer free book marketing and author tools!  \n\nEary registration:$35.00\, make checks payable to : Valley Byliners\, c/o Jose Alvarez\, 130 Pizarro Ave\, Rancho Viejo\, TX.  78575. after January 1st\, $40.00 by mail or pay at workshop\, 8:30am. 
LOCATION:
UID:e.1828.3345
SEQUENCE:3
DTSTAMP:20260420T211447Z
URL:https://business.harlingen.com/events/details/registration-for-the-valley-byliners-2012-workshop-02-11-2012-3345
END:VEVENT

END:VCALENDAR
