BEGIN:VCALENDAR
VERSION:2.0
PRODID:-//ChamberMaster//Event Calendar 2.0//EN
METHOD:PUBLISH
X-PUBLISHED-TTL:P3D
REFRESH-INTERVAL:P3D
CALSCALE:GREGORIAN
BEGIN:VEVENT
DTSTART:20120929T150000Z
DTEND:20120929T170000Z
X-MICROSOFT-CDO-ALLDAYEVENT:FALSE
SUMMARY:"Resaca Books & Gifts" Grand Opening Museum of San Benito
DESCRIPTION:The Museums of San Benito invites the public to join them as they re-open the newly renovated Resaca Books and Gifts.  The renovation is part of an on-going project by the Museums of San Benito.  For more information call (956) 399-9991 or email jannyleigh@sbcglobal.net.
X-ALT-DESC;FMTTYPE=text/html:The Museums of San Benito invites the public to join them as they re-open the newly renovated Resaca Books and Gifts.  The renovation is part of an on-going project by the Museums of San Benito.  For more information call (956) 399-9991 or email jannyleigh@sbcglobal.net.  \n \n
LOCATION:
UID:e.1828.4007
SEQUENCE:3
DTSTAMP:20260420T103156Z
URL:https://business.harlingen.com/events/details/resaca-books-gifts-grand-opening-museum-of-san-benito-09-29-2012-4007
END:VEVENT

END:VCALENDAR
