BEGIN:VCALENDAR
VERSION:2.0
PRODID:-//ChamberMaster//Event Calendar 2.0//EN
METHOD:PUBLISH
X-PUBLISHED-TTL:P3D
REFRESH-INTERVAL:P3D
CALSCALE:GREGORIAN
BEGIN:VEVENT
DTSTART:20100905T000000Z
DTEND:20100905T000000Z
X-MICROSOFT-CDO-ALLDAYEVENT:FALSE
SUMMARY:Rescues & Runways Fashion Show:
DESCRIPTION:Rescues & Runways Fashion Show will be held on September 4\, 2010 with cocktails beginning at 7 pm and the  fashion show starting at 9 pm. This exclusive fashion show is presented in partnership with the Humane Society of Harlingen. Presented by Maurices and Janine Marie Photography. For more details\, call 421-2411. Tickets $5.  VIP Reserve Tickets$25.
X-ALT-DESC;FMTTYPE=text/html:Rescues & Runways Fashion Show will be held on September 4\, 2010 with cocktails beginning at 7 pm and the  fashion show starting at 9 pm. This exclusive fashion show is presented in partnership with the Humane Society of Harlingen. Presented by Maurices and Janine Marie Photography. For more details\, call 421-2411. Tickets $5.  VIP Reserve Tickets$25.
LOCATION:
UID:e.1828.2733
SEQUENCE:3
DTSTAMP:20260422T001950Z
URL:https://business.harlingen.com/events/details/rescues-runways-fashion-show-09-04-2010-2733
END:VEVENT

END:VCALENDAR
