BEGIN:VCALENDAR
VERSION:2.0
PRODID:-//ChamberMaster//Event Calendar 2.0//EN
METHOD:PUBLISH
X-PUBLISHED-TTL:P3D
REFRESH-INTERVAL:P3D
CALSCALE:GREGORIAN
BEGIN:VEVENT
DTSTART:20090919T230000Z
DTEND:20090919T230000Z
X-MICROSOFT-CDO-ALLDAYEVENT:FALSE
SUMMARY:Rescues & Runways - Maurices Fashion Show
DESCRIPTION:Please join us for an exclusive fashion show in partnership with the Harlingen Humane Society.  Maurices supports the ASPCA which provides critical funding \, information and training to local animal shelters throughout the country.  A silent auction will be held during the event.  For more information\, please call 956-421-2411.
X-ALT-DESC;FMTTYPE=text/html:Please join us for an exclusive fashion show in partnership with the Harlingen Humane Society.  Maurices supports the ASPCA which provides critical funding \, information and training to local animal shelters throughout the country.  A silent auction will be held during the event.  For more information\, please call 956-421-2411.
LOCATION:
UID:e.1828.2066
SEQUENCE:3
DTSTAMP:20260422T095330Z
URL:https://business.harlingen.com/events/details/rescues-runways-maurices-fashion-show-09-19-2009-2066
END:VEVENT

END:VCALENDAR
