BEGIN:VCALENDAR
VERSION:2.0
PRODID:-//ChamberMaster//Event Calendar 2.0//EN
METHOD:PUBLISH
X-PUBLISHED-TTL:P3D
REFRESH-INTERVAL:P3D
CALSCALE:GREGORIAN
BEGIN:VEVENT
DTSTART:20100428T190000Z
DTEND:20100428T210000Z
X-MICROSOFT-CDO-ALLDAYEVENT:FALSE
SUMMARY:Responding to RFPs FREE Workshop
DESCRIPTION:Are you interested in government contracting\, but are not sure how to respond to advertised Request for Proposals (RFPs)? \n\n''Responding to RFPs\,'' a FREE workshop sponsored by the Rio South Texas Regional Procurement Technical Assistance Center (PTAC) and the Small Business Development Center (SBDC) at The University of Texas-Pan American\, walks participants through the common sections and clauses of an RFP.  \n\nThe session is scheduled for April 28 from 2 pm to 4 pm at the Harlingen Area Chamber of Commerce\, located at 311 E. Tyler in Harlingen.  \n\nPTAC Director Mark Winchester encourages business owners to nail down their process of thinking\, organizing\, and presenting information when responding to RFPs. ''Being detailed and precise on all sections of RFPs is critical to winning contracts\,'' he adds.  \n\nThe session also covers reviewing the solicitation package for the selected RFP\; examining the details of the document\; explaining common contract clauses\; identifying common mistakes\; and providing tips on the process of developing a proposal\n\nTo register for this seminar\, please contact the Chamber at 956/ 423-5440.
X-ALT-DESC;FMTTYPE=text/html:Are you interested in government contracting\, but are not sure how to respond to advertised Request for Proposals (RFPs)? \n\n''Responding to RFPs\,'' a FREE workshop sponsored by the Rio South Texas Regional Procurement Technical Assistance Center (PTAC) and the Small Business Development Center (SBDC) at The University of Texas-Pan American\, walks participants through the common sections and clauses of an RFP.  \n\nThe session is scheduled for April 28 from 2 pm to 4 pm at the Harlingen Area Chamber of Commerce\, located at 311 E. Tyler in Harlingen.  \n\nPTAC Director Mark Winchester encourages business owners to nail down their process of thinking\, organizing\, and presenting information when responding to RFPs. ''Being detailed and precise on all sections of RFPs is critical to winning contracts\,'' he adds.  \n\nThe session also covers reviewing the solicitation package for the selected RFP\; examining the details of the document\; explaining common contract clauses\; identifying common mistakes\; and providing tips on the process of developing a proposal\n\nTo register for this seminar\, please contact the Chamber at 956/ 423-5440.\n
LOCATION:Corner East Tyler & 3rd Street
UID:e.1828.2458
SEQUENCE:3
DTSTAMP:20260422T061501Z
URL:https://business.harlingen.com/events/details/responding-to-rfps-free-workshop-04-28-2010-2458
END:VEVENT

END:VCALENDAR
