BEGIN:VCALENDAR
VERSION:2.0
PRODID:-//ChamberMaster//Event Calendar 2.0//EN
METHOD:PUBLISH
X-PUBLISHED-TTL:P3D
REFRESH-INTERVAL:P3D
CALSCALE:GREGORIAN
BEGIN:VEVENT
DTSTART:20101120T183000Z
DTEND:20101120T183000Z
X-MICROSOFT-CDO-ALLDAYEVENT:FALSE
SUMMARY:REV FEST featuring Del Castillo
DESCRIPTION:Enjoy a Matinee Movie (TBD) at the Harlingen Performing Arts Theatre located at 1209 Fair Park Blvd. Performances at 12:30 pm & 2:35 pm.  Movie tickets $10. per person.  Then from 4:30 to 8:00 pm head over to the Casa de Amistad located at 1204 Fair Park Blvd. for a Margarita Contest & Art Show.  All artists are invited to display their art work.   Admission $10 donation.  Finally\, from 8:30 pm  to 10:00 pm enjoy the sounds of Del Castillo at the Harlingen Municipal Auditorium at 1204 Fair Park Blvd. Concert tickets start at  $15.00 per person and may be purchased at www.harlingenarts.com.  For more information\, please contact the Harlingen CVB at 956-423-5440.  Proceeds benefit the AFHAC.  Details subject to change.
X-ALT-DESC;FMTTYPE=text/html:Enjoy a Matinee Movie (TBD) at the Harlingen Performing Arts Theatre located at 1209 Fair Park Blvd. Performances at 12:30 pm & 2:35 pm.  Movie tickets $10. per person.  Then from 4:30 to 8:00 pm head over to the Casa de Amistad located at 1204 Fair Park Blvd. for a Margarita Contest & Art Show.  All artists are invited to display their art work.   Admission $10 donation.  Finally\, from 8:30 pm  to 10:00 pm enjoy the sounds of Del Castillo at the Harlingen Municipal Auditorium at 1204 Fair Park Blvd. Concert tickets start at  $15.00 per person and may be purchased at www.harlingenarts.com.  For more information\, please contact the Harlingen CVB at 956-423-5440.  Proceeds benefit the AFHAC.  Details subject to change.  \n   
LOCATION:
UID:e.1828.2675
SEQUENCE:3
DTSTAMP:20260421T203331Z
URL:https://business.harlingen.com/events/details/rev-fest-featuring-del-castillo-11-20-2010-2675
END:VEVENT

END:VCALENDAR
