BEGIN:VCALENDAR
VERSION:2.0
PRODID:-//ChamberMaster//Event Calendar 2.0//EN
METHOD:PUBLISH
X-PUBLISHED-TTL:P3D
REFRESH-INTERVAL:P3D
CALSCALE:GREGORIAN
BEGIN:VEVENT
DTSTART:20091013T200000Z
DTEND:20091013T233000Z
X-MICROSOFT-CDO-ALLDAYEVENT:FALSE
SUMMARY:RGV Apartment Association Trade Show
DESCRIPTION:The RGV Apartment Association is gearing up for this year's Trade Show and are we ever excited!  We are inviting you to join us for this awesome event!  Come to the RGV Livestock Show Grounds Event Center in Mercedes on Tuesday\, October 13\, 2009 from 3:00 to 6:30 p.m.  See incredible Products & Services offered by members and learn what's new.  Also\, stop by the RGVAA/TAA exhibit booth and learn what the Association has to offer rental industry professionals.  There will be theme music from 50's\, 60's & 70's TV Westerns...and there's time in between for a fun photo that you can take home!  That's right...we want this to be the biggest and best turn out we've seen in our history\, so we're pulling out all the stops!  We can't wait to see you there!  Please RSVP to the RGVAA office by end of the business day Monday\, October 12th!  For more information\, please contact the Rio Grande Valley Apartment Association at 956-428-5072 or email rgvaajenny@aol.com or visit our website at www.aavalley.org
X-ALT-DESC;FMTTYPE=text/html:The RGV Apartment Association is gearing up for this year's Trade Show and are we ever excited!  We are inviting you to join us for this awesome event!  Come to the RGV Livestock Show Grounds Event Center in Mercedes on Tuesday\, October 13\, 2009 from 3:00 to 6:30 p.m.  See incredible Products & Services offered by members and learn what's new.  Also\, stop by the RGVAA/TAA exhibit booth and learn what the Association has to offer rental industry professionals.  There will be theme music from 50's\, 60's & 70's TV Westerns...and there's time in between for a fun photo that you can take home!  That's right...we want this to be the biggest and best turn out we've seen in our history\, so we're pulling out all the stops!  We can't wait to see you there!  Please RSVP to the RGVAA office by end of the business day Monday\, October 12th!  For more information\, please contact the Rio Grande Valley Apartment Association at 956-428-5072 or email rgvaajenny@aol.com or visit our website at www.aavalley.org                  \n \n\n
LOCATION:
UID:e.1828.2129
SEQUENCE:3
DTSTAMP:20260422T112702Z
URL:https://business.harlingen.com/events/details/rgv-apartment-association-trade-show-10-13-2009-2129
END:VEVENT

END:VCALENDAR
