BEGIN:VCALENDAR
VERSION:2.0
PRODID:-//ChamberMaster//Event Calendar 2.0//EN
METHOD:PUBLISH
X-PUBLISHED-TTL:P3D
REFRESH-INTERVAL:P3D
CALSCALE:GREGORIAN
BEGIN:VEVENT
DTSTART:20091213T220000Z
DTEND:20091213T220000Z
X-MICROSOFT-CDO-ALLDAYEVENT:FALSE
SUMMARY:RGV Arts Studio Christmas Pageant Ballet
DESCRIPTION:Ticket Price: $2.50 (All Tickets General Admission).  Master Card and Visa accepted.  Tickets on sale now at the Municipal Auditorium Box Office.  Phone 956-216-5990.
X-ALT-DESC;FMTTYPE=text/html:Ticket Price: $2.50 (All Tickets General Admission).  Master Card and Visa accepted.  Tickets on sale now at the Municipal Auditorium Box Office.  Phone 956-216-5990.\n\n\n
LOCATION:
UID:e.1828.2269
SEQUENCE:3
DTSTAMP:20260422T130028Z
URL:https://business.harlingen.com/events/details/rgv-arts-studio-christmas-pageant-ballet-12-13-2009-2269
END:VEVENT

END:VCALENDAR
