BEGIN:VCALENDAR
VERSION:2.0
PRODID:-//ChamberMaster//Event Calendar 2.0//EN
METHOD:PUBLISH
X-PUBLISHED-TTL:P3D
REFRESH-INTERVAL:P3D
CALSCALE:GREGORIAN
BEGIN:VEVENT
DTSTART:20120224T000000Z
DTEND:20120224T020000Z
X-MICROSOFT-CDO-ALLDAYEVENT:FALSE
SUMMARY:RGV + Beyond Arts & More Announces Premier Launch Party!
DESCRIPTION:RGV + Beyond Arts & More is throwing a bash for the launch of their new magazine dedicated to the Arts\, Artists\, Collectors\, Curators\, Art Lovers and more! RGV + Beyond Arts & More was created to give artists and art lovers a voice\, and to bolster the appreciation of the arts in the Valley and beyond. Join us for this special evening of celebration!\n\nMusic provided by Classical Guitarist Brooks Osborn. Plus\, there will be information on special incentives AND exciting giveaways! Join us for a fabulous event!
X-ALT-DESC;FMTTYPE=text/html:RGV + Beyond Arts & More is throwing a bash for the launch of their new magazine dedicated to the Arts\, Artists\, Collectors\, Curators\, Art Lovers and more! RGV + Beyond Arts & More was created to give artists and art lovers a voice\, and to bolster the appreciation of the arts in the Valley and beyond. Join us for this special evening of celebration!\n\nMusic provided by Classical Guitarist Brooks Osborn. Plus\, there will be information on special incentives AND exciting giveaways! Join us for a fabulous event!\n \n
LOCATION:
UID:e.1828.3394
SEQUENCE:3
DTSTAMP:20260420T200309Z
URL:https://business.harlingen.com/events/details/rgv-beyond-arts-more-announces-premier-launch-party-02-23-2012-3394
END:VEVENT

END:VCALENDAR
