BEGIN:VCALENDAR
VERSION:2.0
PRODID:-//ChamberMaster//Event Calendar 2.0//EN
METHOD:PUBLISH
X-PUBLISHED-TTL:P3D
REFRESH-INTERVAL:P3D
CALSCALE:GREGORIAN
BEGIN:VEVENT
DTSTART:20110813T140000Z
DTEND:20110813T200000Z
X-MICROSOFT-CDO-ALLDAYEVENT:FALSE
SUMMARY:RGV Optical Images & Ophthalmic Consultants of Texas
DESCRIPTION:Special 1-Day event introducing new designer frames for children and teens 1/2 off. In addition Dillard's will hold a back-to-school children & teen fashion show. Giveaways include: $200 & $100 gift certificates\, back pack and school supplies\, plus eyeglass frames
X-ALT-DESC;FMTTYPE=text/html:Special 1-Day event introducing new designer frames for children and teens 1/2 off. In addition Dillard's will hold a back-to-school children & teen fashion show. Giveaways include: $200 & $100 gift certificates\, back pack and school supplies\, plus eyeglass frames\n
LOCATION:
UID:e.1828.3140
SEQUENCE:3
DTSTAMP:20260421T053130Z
URL:https://business.harlingen.com/events/details/rgv-optical-images-ophthalmic-consultants-of-texas-08-13-2011-3140
END:VEVENT

END:VCALENDAR
