BEGIN:VCALENDAR
VERSION:2.0
PRODID:-//ChamberMaster//Event Calendar 2.0//EN
METHOD:PUBLISH
X-PUBLISHED-TTL:P3D
REFRESH-INTERVAL:P3D
CALSCALE:GREGORIAN
BEGIN:VEVENT
DTSTART:20110113T011500Z
DTEND:20110113T011500Z
X-MICROSOFT-CDO-ALLDAYEVENT:FALSE
SUMMARY:RGV Vipers play Erie BayHawks
DESCRIPTION:Tickets available at a discounted rate of $5! Must be purchased by January 6th.  For form & contact information contact Nicole Zagata @ 956-972-1144 or e-mail nzagata@rgvipers.com
X-ALT-DESC;FMTTYPE=text/html:Tickets available at a discounted rate of $5! Must be purchased by January 6th.  For form & contact information contact Nicole Zagata @ 956-972-1144 or e-mail nzagata@rgvipers.com\n
LOCATION:
UID:e.1828.2878
SEQUENCE:3
DTSTAMP:20260421T154727Z
URL:https://business.harlingen.com/events/details/rgv-vipers-play-erie-bayhawks-01-12-2011-2878
END:VEVENT

END:VCALENDAR
