BEGIN:VCALENDAR
VERSION:2.0
PRODID:-//ChamberMaster//Event Calendar 2.0//EN
METHOD:PUBLISH
X-PUBLISHED-TTL:P3D
REFRESH-INTERVAL:P3D
CALSCALE:GREGORIAN
BEGIN:VEVENT
DTSTART:20120815T000500Z
DTEND:20120815T000500Z
X-MICROSOFT-CDO-ALLDAYEVENT:FALSE
SUMMARY:RGV WhiteWing News
DESCRIPTION:WhiteWings vs San Angelo.  "Two Fer' Tuesday":  Two for the price of one tickets for Reserve Grandstand and Lower Box\, as well as $2 in 3rd Base Slide Bleacher seats.  Also\, $2 sodas and $2 beer.
X-ALT-DESC;FMTTYPE=text/html:WhiteWings vs San Angelo.  "Two Fer' Tuesday":  Two for the price of one tickets for Reserve Grandstand and Lower Box\, as well as $2 in 3rd Base Slide Bleacher seats.  Also\, $2 sodas and $2 beer.     \n
LOCATION:
UID:e.1828.3930
SEQUENCE:3
DTSTAMP:20260420T101243Z
URL:https://business.harlingen.com/events/details/rgv-whitewing-news-08-14-2012-3930
END:VEVENT

END:VCALENDAR
