BEGIN:VCALENDAR
VERSION:2.0
PRODID:-//ChamberMaster//Event Calendar 2.0//EN
METHOD:PUBLISH
X-PUBLISHED-TTL:P3D
REFRESH-INTERVAL:P3D
CALSCALE:GREGORIAN
BEGIN:VEVENT
DTSTART:20120517T150500Z
DTEND:20120517T150500Z
X-MICROSOFT-CDO-ALLDAYEVENT:FALSE
SUMMARY:RGV WhiteWings Exhibition Game Against the McAllen Thunder
DESCRIPTION:At this time\, the WhiteWings will also host a special Kid's Day event.  An estimated 4\,000 youngsters from the area are expected to attend.
X-ALT-DESC;FMTTYPE=text/html:At this time\, the WhiteWings will also host a special Kid's Day event.  An estimated 4\,000 youngsters from the area are expected to attend.      \n
LOCATION:
UID:e.1828.3658
SEQUENCE:3
DTSTAMP:20260420T150812Z
URL:https://business.harlingen.com/events/details/rgv-whitewings-exhibition-game-against-the-mcallen-thunder-05-17-2012-3658
END:VEVENT

END:VCALENDAR
