BEGIN:VCALENDAR
VERSION:2.0
PRODID:-//ChamberMaster//Event Calendar 2.0//EN
METHOD:PUBLISH
X-PUBLISHED-TTL:P3D
REFRESH-INTERVAL:P3D
CALSCALE:GREGORIAN
BEGIN:VEVENT
DTSTART:20120901T230500Z
DTEND:20120901T230500Z
X-MICROSOFT-CDO-ALLDAYEVENT:FALSE
SUMMARY:RGV WhiteWings vs Edinburg Roadrunners
DESCRIPTION:RGV WhiteWings vs Edinburg Roadrunners sponsored by the City of Harlingen.\n\nSaturday\, September 1\, 2012  \nGame:  6:05 p.m.\nFireworks:  10:00 p.m. \n\nCome Join Us!  For more information call (956) 423-9464.  For ticket information\, go to guestinfo@whitewingsbaseball.net.
X-ALT-DESC;FMTTYPE=text/html:RGV WhiteWings vs Edinburg Roadrunners sponsored by the City of Harlingen.\n\nSaturday\, September 1\, 2012  \nGame:  6:05 p.m.\nFireworks:  10:00 p.m. \n\nCome Join Us!  For more information call (956) 423-9464.  For ticket information\, go to guestinfo@whitewingsbaseball.net. \n
LOCATION:
UID:e.1828.3960
SEQUENCE:3
DTSTAMP:20260420T101557Z
URL:https://business.harlingen.com/events/details/rgv-whitewings-vs-edinburg-roadrunners-09-01-2012-3960
END:VEVENT

END:VCALENDAR
