BEGIN:VCALENDAR
VERSION:2.0
PRODID:-//ChamberMaster//Event Calendar 2.0//EN
METHOD:PUBLISH
X-PUBLISHED-TTL:P3D
REFRESH-INTERVAL:P3D
CALSCALE:GREGORIAN
BEGIN:VEVENT
DTSTART:20120904T000500Z
DTEND:20120904T000500Z
X-MICROSOFT-CDO-ALLDAYEVENT:FALSE
SUMMARY:RGV WhiteWings vs Edinburg Roadrunners
DESCRIPTION:RGV WhiteWings vs Edinburg Roadrunners sponsored by Locals Lounge.\n\nMonday\, September 3\, 2012\nGame:  7:05 p.m.  \n\n$1 Beer\, "Shirt off the Back" Auction!  All proceeds going to charity.\nFor more information call (956) 423-9464.  For ticket information\, go to guestinfo@whitewingsbaseball.net.
X-ALT-DESC;FMTTYPE=text/html:RGV WhiteWings vs Edinburg Roadrunners sponsored by Locals Lounge.\n\nMonday\, September 3\, 2012\nGame:  7:05 p.m.  \n\n$1 Beer\, "Shirt off the Back" Auction!  All proceeds going to charity.\nFor more information call (956) 423-9464.  For ticket information\, go to guestinfo@whitewingsbaseball.net.  \n
LOCATION:
UID:e.1828.3961
SEQUENCE:3
DTSTAMP:20260420T101556Z
URL:https://business.harlingen.com/events/details/rgv-whitewings-vs-edinburg-roadrunners-09-03-2012-3961
END:VEVENT

END:VCALENDAR
