BEGIN:VCALENDAR
VERSION:2.0
PRODID:-//ChamberMaster//Event Calendar 2.0//EN
METHOD:PUBLISH
X-PUBLISHED-TTL:P3D
REFRESH-INTERVAL:P3D
CALSCALE:GREGORIAN
BEGIN:VEVENT
DTSTART:20120905T000500Z
DTEND:20120905T000500Z
X-MICROSOFT-CDO-ALLDAYEVENT:FALSE
SUMMARY:RGV WhiteWings vs Edinburg Roadrunners
DESCRIPTION:RGV WhiteWings vs Edinburg Roadrunners. 1st Playoff Game! Game:7:05 p.m.  For more information call (956) 423-9464.  For ticket information\, go to guestinfo@whitewingsbaseball.net.
X-ALT-DESC;FMTTYPE=text/html:RGV WhiteWings vs Edinburg Roadrunners. 1st Playoff Game! Game:7:05 p.m.  For more information call (956) 423-9464.  For ticket information\, go to guestinfo@whitewingsbaseball.net.  \n\n\n
LOCATION:
UID:e.1828.3962
SEQUENCE:3
DTSTAMP:20260420T101557Z
URL:https://business.harlingen.com/events/details/rgv-whitewings-vs-edinburg-roadrunners-09-04-2012-3962
END:VEVENT

END:VCALENDAR
