BEGIN:VCALENDAR
VERSION:2.0
PRODID:-//ChamberMaster//Event Calendar 2.0//EN
METHOD:PUBLISH
X-PUBLISHED-TTL:P3D
REFRESH-INTERVAL:P3D
CALSCALE:GREGORIAN
BEGIN:VEVENT
DTSTART:20100401T230000Z
DTEND:20100402T020000Z
X-MICROSOFT-CDO-ALLDAYEVENT:FALSE
SUMMARY:rgVision Business Mixer
DESCRIPTION:rgVision Business Mixer welcomes Hospital CEOs featured in their March/April issue.  Catering by OZUKA.  Master of ceremony\, Marcy Martinez.  $10 donation at the door to benefit Easter Seals.  For more information\, please contact rgVision at 956-216-7505.
X-ALT-DESC;FMTTYPE=text/html:rgVision Business Mixer welcomes Hospital CEOs featured in their March/April issue.  Catering by OZUKA.  Master of ceremony\, Marcy Martinez.  $10 donation at the door to benefit Easter Seals.  For more information\, please contact rgVision at 956-216-7505.
LOCATION:
UID:e.1828.2425
SEQUENCE:3
DTSTAMP:20260422T080605Z
URL:https://business.harlingen.com/events/details/rgvision-business-mixer-04-01-2010-2425
END:VEVENT

END:VCALENDAR
