BEGIN:VCALENDAR
VERSION:2.0
PRODID:-//ChamberMaster//Event Calendar 2.0//EN
METHOD:PUBLISH
X-PUBLISHED-TTL:P3D
REFRESH-INTERVAL:P3D
CALSCALE:GREGORIAN
BEGIN:VEVENT
DTSTART:20091022T230000Z
DTEND:20091023T010000Z
X-MICROSOFT-CDO-ALLDAYEVENT:FALSE
SUMMARY:RGVision Generation Next Business Mixer
DESCRIPTION:RGVision magazine cordially invites you to help celebrate their September/October issue release with a business mixer at the Elephant Room in McAllen on Thursday\, October 22\, 2009 from 6:00 to 8:00 pm.  For more information\, please call (956) 216-7575.
X-ALT-DESC;FMTTYPE=text/html:RGVision magazine cordially invites you to help celebrate their September/October issue release with a business mixer at the Elephant Room in McAllen on Thursday\, October 22\, 2009 from 6:00 to 8:00 pm.  For more information\, please call (956) 216-7575.\n
LOCATION:
UID:e.1828.2154
SEQUENCE:3
DTSTAMP:20260422T111725Z
URL:https://business.harlingen.com/events/details/rgvision-generation-next-business-mixer-10-22-2009-2154
END:VEVENT

END:VCALENDAR
