BEGIN:VCALENDAR
VERSION:2.0
PRODID:-//ChamberMaster//Event Calendar 2.0//EN
METHOD:PUBLISH
X-PUBLISHED-TTL:P3D
REFRESH-INTERVAL:P3D
CALSCALE:GREGORIAN
BEGIN:VEVENT
DTSTART:20101209T003000Z
DTEND:20101209T003000Z
X-MICROSOFT-CDO-ALLDAYEVENT:FALSE
SUMMARY:RGVision Magazine Winter Cocktail Reception
DESCRIPTION:Please join RGVision and HYPE (Harlingen Young Professionals & Entrepreneurs) as they honor Dr. Leonel Vela and their November/December profiles in a Cocktail Reception to benefit RGV Mentors.  In association with HYPE complimentary appetizers & cocktails will be served. $20 Donation accepted at the door.
X-ALT-DESC;FMTTYPE=text/html:Please join RGVision and HYPE (Harlingen Young Professionals & Entrepreneurs) as they honor Dr. Leonel Vela and their November/December profiles in a Cocktail Reception to benefit RGV Mentors.  In association with HYPE complimentary appetizers & cocktails will be served. $20 Donation accepted at the door. \n\n
LOCATION:Golden Palms Retirement & Healthcare Ctr. Texas Room 5th floor 2101 Treasure Hills Blvd. Harlingen
UID:e.1828.2865
SEQUENCE:3
DTSTAMP:20260421T190013Z
URL:https://business.harlingen.com/events/details/rgvision-magazine-winter-cocktail-reception-12-08-2010-2865
END:VEVENT

END:VCALENDAR
