BEGIN:VCALENDAR
VERSION:2.0
PRODID:-//ChamberMaster//Event Calendar 2.0//EN
METHOD:PUBLISH
X-PUBLISHED-TTL:P3D
REFRESH-INTERVAL:P3D
CALSCALE:GREGORIAN
BEGIN:VEVENT
DTSTART:20110420T220000Z
DTEND:20110421T000000Z
X-MICROSOFT-CDO-ALLDAYEVENT:FALSE
SUMMARY:rgVision Mixer at the Reese
DESCRIPTION:A portion of the bar sales will benefit the nonprofit being recognizing at this event between these hours: Monica and Maggie's House. Former Mayor - Connie de la Garza will be speaking on the new development in Harlingen. Come help honor the inner profiles of the current May/June 2011 issue of RGVision and experience the Historical renovated atmosphere of Colletti's Italian Restaurant in Harlingen's new high rise condos - The Reese.
X-ALT-DESC;FMTTYPE=text/html:A portion of the bar sales will benefit the nonprofit being recognizing at this event between these hours: Monica and Maggie's House. Former Mayor - Connie de la Garza will be speaking on the new development in Harlingen. Come help honor the inner profiles of the current May/June 2011 issue of RGVision and experience the Historical renovated atmosphere of Colletti's Italian Restaurant in Harlingen's new high rise condos - The Reese.\n\n
LOCATION:
UID:e.1828.3030
SEQUENCE:3
DTSTAMP:20260421T123822Z
URL:https://business.harlingen.com/events/details/rgvision-mixer-at-the-reese-04-20-2011-3030
END:VEVENT

END:VCALENDAR
