BEGIN:VCALENDAR
VERSION:2.0
PRODID:-//ChamberMaster//Event Calendar 2.0//EN
METHOD:PUBLISH
X-PUBLISHED-TTL:P3D
REFRESH-INTERVAL:P3D
CALSCALE:GREGORIAN
BEGIN:VEVENT
DTSTART:20091117T173000Z
DTEND:20091117T173000Z
X-MICROSOFT-CDO-ALLDAYEVENT:FALSE
SUMMARY:Ribbon Cutting at Harlingen Recycle Center
DESCRIPTION:Join the Harlingen Area Chamber Ambassadors along with Harlingen proud to celebrate the newly remodeled offices with a ribbon cutting event on Tuesday at 11:30 am at the \n    \n        Harlingen\n        Recycling\n        Center\n    \n    in honor of Texas Recycles Day.  The Recycling center is located at 1006 S Commerce   next to the old police station.\n    \n\n\n    \n     \n    \n\n\n    Harlingen Proud will be giving out refreshments and information to visitors along with giving tours of the facility in honor of Texas Recycles Day throughout the day 9:00 am   3:00 pm.  Join us and learn how your business can create a recycle program.
X-ALT-DESC;FMTTYPE=text/html:<p class="MsoNormal" style="MARGIN: 0in 0in 0pt">\n    <span style="FONT-SIZE: 10pt\; FONT-FAMILY: 'Arial'\,'sans-serif'"><?xml:namespace prefix = st1 ns = "urn:schemas-microsoft-com:office:smarttags" />Join the Harlingen Area Chamber Ambassadors along with Harlingen proud to celebrate the newly remodeled offices with a ribbon cutting event&nbsp\;on Tuesday at 11:30 am at the \n    <st1:place w:st="on">\n        <st1:PlaceName w:st="on">Harlingen</st1:PlaceName>\n        <st1:PlaceName w:st="on">Recycling</st1:PlaceName>\n        <st1:PlaceType w:st="on">Center</st1:PlaceType>\n    </st1:place><?xml:namespace prefix = o ns = "urn:schemas-microsoft-com:office:office" />\n    in honor of Texas Recycles Day.&nbsp\; The Recycling center is located at 1006 S Commerce &ndash\; next to the old police station.<o:p></o:p>\n    </span>\n</p>\n<p class="MsoNormal" style="MARGIN: 0in 0in 0pt">\n    <span style="FONT-SIZE: 10pt\; FONT-FAMILY: 'Arial'\,'sans-serif'">\n    <o:p>&nbsp\;</o:p>\n    </span>\n</p>\n<p class="MsoNormal" style="MARGIN: 0in 0in 0pt">\n    <span style="FONT-SIZE: 10pt\; FONT-FAMILY: 'Arial'\,'sans-serif'">Harlingen Proud will be giving out refreshments and information to visitors along with giving tours of the facility in honor of Texas Recycles Day throughout the day 9:00 am &ndash\; 3:00 pm.&nbsp\; Join us and learn how your business can create a recycle program.&nbsp\; \n    <o:p></o:p>\n    </span>\n</p>
LOCATION:
UID:e.1828.2212
SEQUENCE:3
DTSTAMP:20260422T130509Z
URL:https://business.harlingen.com/events/details/ribbon-cutting-at-harlingen-recycle-center-11-17-2009-2212
END:VEVENT

END:VCALENDAR
