BEGIN:VCALENDAR
VERSION:2.0
PRODID:-//ChamberMaster//Event Calendar 2.0//EN
METHOD:PUBLISH
X-PUBLISHED-TTL:P3D
REFRESH-INTERVAL:P3D
CALSCALE:GREGORIAN
BEGIN:VEVENT
DTSTART:20091124T220000Z
DTEND:20091124T220000Z
X-MICROSOFT-CDO-ALLDAYEVENT:FALSE
SUMMARY:Ribbon Cutting at Secret Scents
DESCRIPTION:Join the Harlingen Area Chamber Ambassadors and owner Dorinda Trevino as we celebrate the One Year Anniversary at her new location with an Open House Ribbon Cutting ceremony. This is a great time to start your Christmas shopping.\n\n\n    At Secret Scents we would like to introduce you to a world of fragrances.  We offer long lasting concentrated body care products of the finest quality at a reasonable price. Our product include perfumes\, colognes\, lotions\, body spritzers\, shower gel\, candles & warmers.  The fragrance compounds are the scents imspired\n    by nature: fruits\, herbs\, spices\, flowers\, woods\, musk and leaves.  These are the bases for all commercial fragrances. \n\n\n     \n\n\n    For more information\, call (956) 423-0204. Store Hours are Tuesday - Friday 1:30 pm to 6:00 pm and Saturday 10:30 am to 5:00 pm.
X-ALT-DESC;FMTTYPE=text/html:<p>\n    Join the Harlingen Area Chamber Ambassadors and owner Dorinda Trevino as we celebrate the One Year Anniversary at her new location with an Open House Ribbon Cutting ceremony. This is a great time to start your Christmas shopping.\n</p>\n<p class="MsoNormal" style="MARGIN: 0in 0in 0pt">\n    <span style="mso-fareast-font-family: 'Times New Roman'">At Secret Scents we would like to introduce you to a world of fragrances.&nbsp\; We offer long lasting concentrated body care </span><span style="mso-fareast-font-family: 'Times New Roman'">products of the finest quality at a reasonable price. Our product include perfumes\, colognes\, lotions\, body spritzers\, </span><span style="mso-fareast-font-family: 'Times New Roman'">shower gel\, candles &amp\; warmers.&nbsp\; The fragrance compounds are the scents imspired\n    by nature: fruits\, herbs\, spices\, </span><span style="mso-fareast-font-family: 'Times New Roman'">flowers\, woods\, musk and leaves.&nbsp\; These are the bases for all commercial fragrances. </span>\n</p>\n<p class="MsoNormal" style="MARGIN: 0in 0in 0pt">\n    <span style="mso-fareast-font-family: 'Times New Roman'"></span> \n</p>\n<p class="MsoNormal" style="MARGIN: 0in 0in 0pt">\n    <span style="mso-fareast-font-family: 'Times New Roman'">For more information\, call (956) 423-0204. Store Hours are Tuesday - Friday 1:30 pm to 6:00 pm and Saturday 10:30 am to 5:00 pm.</span>\n</p>\n<p>\n    <!-- cg5.c203.mail.sp2.yahoo.com compressed/chunked Wed Nov  4 12:57:39 PST 2009 -->&nbsp\; \n</p>
LOCATION:
UID:e.1828.2213
SEQUENCE:3
DTSTAMP:20260422T130324Z
URL:https://business.harlingen.com/events/details/ribbon-cutting-at-secret-scents-11-24-2009-2213
END:VEVENT

END:VCALENDAR
