BEGIN:VCALENDAR
VERSION:2.0
PRODID:-//ChamberMaster//Event Calendar 2.0//EN
METHOD:PUBLISH
X-PUBLISHED-TTL:P3D
REFRESH-INTERVAL:P3D
CALSCALE:GREGORIAN
BEGIN:VEVENT
DTSTART:20091112T230000Z
DTEND:20091112T230000Z
X-MICROSOFT-CDO-ALLDAYEVENT:FALSE
SUMMARY:Ribbon Cutting - Bayou Pappys
DESCRIPTION:Join the Harlingen Chamber Ambassadors along with Bayou Pappys to celebrate this special occasion with a ribbon cutting ceremony. \n    \n    \n\n\n     \n    \n\n\n    Bayou Pappys is a full Service\, family oriented restaurant featuring award winning recipes from Chef Charman Benson.\n    \n\n\n     \n    \n\n\n    Restaurant Hours: \n    \n    \n\n\n    Sun - Thurs: 11 am - 10 pm\n    \n    \n\n\n    Fri: 11 am - 11 pm\n    \n    \n\n\n    Sat: 12 pm - 11 pm
X-ALT-DESC;FMTTYPE=text/html:<p class="MsoNormal" style="MARGIN: 0in 0in 0pt\; TEXT-ALIGN: center" align="center">\n    <span style="FONT-SIZE: 10pt\; COLOR: #857458\; FONT-FAMILY: 'Arial'\,'sans-serif'"><strong><span style="FONT-FAMILY: 'Arial'\,'sans-serif'">Join the Harlingen Chamber Ambassadors along with Bayou Pappys to celebrate this special occasion with a ribbon cutting ceremony. </span></strong><?xml:namespace prefix = o ns = "urn:schemas-microsoft-com:office:office" />\n    <o:p></o:p>\n    </span>\n</p>\n<p class="MsoNormal" style="MARGIN: 0in 0in 0pt">\n    <span style="FONT-SIZE: 10pt\; COLOR: #857458\; FONT-FAMILY: 'Arial'\,'sans-serif'">&nbsp\;<o:p></o:p>\n    </span>\n</p>\n<p class="MsoNormal" style="MARGIN: 0in 0in 0pt">\n    <span style="FONT-SIZE: 10pt\; COLOR: #857458\; FONT-FAMILY: 'Arial'\,'sans-serif'">Bayou Pappys is a full Service\, family oriented restaurant featuring award winning recipes from Chef Charman Benson.<o:p></o:p>\n    </span>\n</p>\n<p class="MsoNormal" style="MARGIN: 0in 0in 0pt">\n    <span style="FONT-SIZE: 10pt\; COLOR: #857458\; FONT-FAMILY: 'Arial'\,'sans-serif'">&nbsp\;<o:p></o:p>\n    </span>\n</p>\n<p class="MsoNormal" style="MARGIN: 0in 0in 0pt">\n    <strong><u><span style="FONT-SIZE: 10pt\; COLOR: #857458\; FONT-FAMILY: 'Arial'\,'sans-serif'">Restaurant Hours:</span></u></strong><strong><span style="FONT-SIZE: 10pt\; COLOR: #857458\; FONT-FAMILY: 'Arial'\,'sans-serif'"> </span></strong><span style="FONT-SIZE: 10pt\; COLOR: #857458\; FONT-FAMILY: 'Arial'\,'sans-serif'">\n    <o:p></o:p>\n    </span>\n</p>\n<p class="MsoNormal" style="MARGIN: 0in 0in 0pt">\n    <strong><span style="FONT-SIZE: 10pt\; COLOR: #857458\; FONT-FAMILY: 'Arial'\,'sans-serif'">Sun - Thurs: 11 am - 10 pm</span></strong><span style="FONT-SIZE: 10pt\; COLOR: #857458\; FONT-FAMILY: 'Arial'\,'sans-serif'">\n    <o:p></o:p>\n    </span>\n</p>\n<p class="MsoNormal" style="MARGIN: 0in 0in 0pt">\n    <strong><span style="FONT-SIZE: 10pt\; COLOR: #857458\; FONT-FAMILY: 'Arial'\,'sans-serif'">Fri: 11 am - 11 pm</span></strong><span style="FONT-SIZE: 10pt\; COLOR: #857458\; FONT-FAMILY: 'Arial'\,'sans-serif'">\n    <o:p></o:p>\n    </span>\n</p>\n<p class="MsoNormal" style="MARGIN: 0in 0in 0pt">\n    <strong><span style="FONT-SIZE: 10pt\; COLOR: #857458\; FONT-FAMILY: 'Arial'\,'sans-serif'">Sat: 12 pm - 11 pm</span></strong><span style="FONT-SIZE: 10pt\; COLOR: #857458\; FONT-FAMILY: 'Arial'\,'sans-serif'">\n    <o:p></o:p>\n    </span>\n</p>
LOCATION:
UID:e.1828.2209
SEQUENCE:3
DTSTAMP:20260422T130028Z
URL:https://business.harlingen.com/events/details/ribbon-cutting-bayou-pappys-11-12-2009-2209
END:VEVENT

END:VCALENDAR
