BEGIN:VCALENDAR
VERSION:2.0
PRODID:-//ChamberMaster//Event Calendar 2.0//EN
METHOD:PUBLISH
X-PUBLISHED-TTL:P3D
REFRESH-INTERVAL:P3D
CALSCALE:GREGORIAN
BEGIN:VEVENT
DTSTART:20210521T160000Z
DTEND:20210521T170000Z
X-MICROSOFT-CDO-ALLDAYEVENT:FALSE
SUMMARY:Ribbon Cutting - Word in Season
DESCRIPTION:Word in Season is having their ribbon cutting on Friday\, May 21st at 11AM. \n\n\n\nJoin us as we celebrate this momentous occasion!
X-ALT-DESC;FMTTYPE=text/html:Word in Season is having their ribbon cutting on Friday\, May 21st at 11AM.&nbsp\;<br />\n<br />\nJoin us as we celebrate this momentous occasion!
LOCATION:1509 MORGAN BLVD HARLINGEN\, TX
UID:e.1828.16442
SEQUENCE:3
DTSTAMP:20260419T175617Z
URL:https://business.harlingen.com/events/details/ribbon-cutting-word-in-season-16442
END:VEVENT

END:VCALENDAR
