BEGIN:VCALENDAR
VERSION:2.0
PRODID:-//ChamberMaster//Event Calendar 2.0//EN
METHOD:PUBLISH
X-PUBLISHED-TTL:P3D
REFRESH-INTERVAL:P3D
CALSCALE:GREGORIAN
BEGIN:VEVENT
DTSTART:20120121T210000Z
DTEND:20120122T010000Z
X-MICROSOFT-CDO-ALLDAYEVENT:FALSE
SUMMARY:Rio Grand Ole Opry Vance Greek and Friends
DESCRIPTION:Vance Greek and Friends in a variety extravaganza benefit concert with the best in country old standards\, and gospel benefitting Loaves and Fishes. Guest performers\, The Deep River Boys Quartet\, Rolando Reyes\, Jay & Tammy\, Del Puschert\, Precious Jade & Harry Hazzard\, Red Arwood\, Charlie Mudford. \nFor tickets call 956-216-5990.
X-ALT-DESC;FMTTYPE=text/html:Vance Greek and Friends in a variety extravaganza benefit concert with the best in country old standards\, and gospel benefitting Loaves and Fishes. Guest performers\, The Deep River Boys Quartet\, Rolando Reyes\, Jay & Tammy\, Del Puschert\, Precious Jade & Harry Hazzard\, Red Arwood\, Charlie Mudford. \nFor tickets call 956-216-5990. 
LOCATION:
UID:e.1828.3364
SEQUENCE:3
DTSTAMP:20260420T213439Z
URL:https://business.harlingen.com/events/details/rio-grand-ole-opry-vance-greek-and-friends-01-21-2012-3364
END:VEVENT

END:VCALENDAR
