BEGIN:VCALENDAR
VERSION:2.0
PRODID:-//ChamberMaster//Event Calendar 2.0//EN
METHOD:PUBLISH
X-PUBLISHED-TTL:P3D
REFRESH-INTERVAL:P3D
CALSCALE:GREGORIAN
BEGIN:VEVENT
DTSTART:20110310T000000Z
DTEND:20110310T030000Z
X-MICROSOFT-CDO-ALLDAYEVENT:FALSE
SUMMARY:Rio Grande Mental Health Open House-March Mixer
DESCRIPTION:Support Harlingen's new business\, Rio Grande Mental Health\, by attending their upcoming mixer! \nFor more information please call Michael Muniz 956-364-1111.
X-ALT-DESC;FMTTYPE=text/html:Support Harlingen's new business\, Rio Grande Mental Health\, by attending their upcoming mixer! \nFor more information please call Michael Muniz 956-364-1111.
LOCATION:
UID:e.1828.2987
SEQUENCE:3
DTSTAMP:20260421T125040Z
URL:https://business.harlingen.com/events/details/rio-grande-mental-health-open-house-march-mixer-03-09-2011-2987
END:VEVENT

END:VCALENDAR
