BEGIN:VCALENDAR
VERSION:2.0
PRODID:-//ChamberMaster//Event Calendar 2.0//EN
METHOD:PUBLISH
X-PUBLISHED-TTL:P3D
REFRESH-INTERVAL:P3D
CALSCALE:GREGORIAN
BEGIN:VEVENT
DTSTART:20100930T180000Z
DTEND:20100930T210000Z
X-MICROSOFT-CDO-ALLDAYEVENT:FALSE
SUMMARY:Rio Grande State Center Community Resource and Health Fair
DESCRIPTION:It's about people helping people!  Free admission...free booths!  Light refreshments.   The event will take place in the auditorium at the center.  For more information\, please call 956-364-8300.
X-ALT-DESC;FMTTYPE=text/html:It's about people helping people!  Free admission...free booths!  Light refreshments.   The event will take place in the auditorium at the center.  For more information\, please call 956-364-8300.
LOCATION:
UID:e.1828.2650
SEQUENCE:3
DTSTAMP:20260421T223613Z
URL:https://business.harlingen.com/events/details/rio-grande-state-center-community-resource-and-health-fair-09-30-2010-2650
END:VEVENT

END:VCALENDAR
