BEGIN:VCALENDAR
VERSION:2.0
PRODID:-//ChamberMaster//Event Calendar 2.0//EN
METHOD:PUBLISH
X-PUBLISHED-TTL:P3D
REFRESH-INTERVAL:P3D
CALSCALE:GREGORIAN
BEGIN:VEVENT
DTSTART:20110511T180000Z
DTEND:20110511T210000Z
X-MICROSOFT-CDO-ALLDAYEVENT:FALSE
SUMMARY:Rio Grande State Center Cultural Diversity Fair
DESCRIPTION:Invite is open for any and everyone to attend "Passport to the World" a cultural diversity fair to help foster respect and appreciation for diversity in the community and to celebrate its multiethnic heritage. Gain knowledge and appreciation for your own heritage as well as others.\nEnjoy refreshments and door prices! Call today for a FREE Booth at the fair and ask for Vera Uribe \n(956) 364-8300.
X-ALT-DESC;FMTTYPE=text/html:Invite is open for any and everyone to attend "Passport to the World" a cultural diversity fair to help foster respect and appreciation for diversity in the community and to celebrate its multiethnic heritage. Gain knowledge and appreciation for your own heritage as well as others.\nEnjoy refreshments and door prices! Call today for a FREE Booth at the fair and ask for Vera Uribe \n(956) 364-8300.\n
LOCATION:
UID:e.1828.3020
SEQUENCE:3
DTSTAMP:20260421T111303Z
URL:https://business.harlingen.com/events/details/rio-grande-state-center-cultural-diversity-fair-05-11-2011-3020
END:VEVENT

END:VCALENDAR
