BEGIN:VCALENDAR
VERSION:2.0
PRODID:-//ChamberMaster//Event Calendar 2.0//EN
METHOD:PUBLISH
X-PUBLISHED-TTL:P3D
REFRESH-INTERVAL:P3D
CALSCALE:GREGORIAN
BEGIN:VEVENT
DTSTART:20091111T230000Z
DTEND:20091112T010000Z
X-MICROSOFT-CDO-ALLDAYEVENT:FALSE
SUMMARY:Rio Grande Valley Birding Festival Reception
DESCRIPTION:A welcome reception for birding festival participants will be held at the Harlingen Arts & Heritage Museum on November 11th.  Hors d'oeuvres and beverages will be provided by the museum. The reception will run from 5:00 PM to 7:00 PM. For more information\, please call 956-216-4901.
X-ALT-DESC;FMTTYPE=text/html:A welcome reception for birding festival participants will be held at the Harlingen Arts & Heritage Museum on November 11th.  Hors d'oeuvres and beverages will be provided by the museum. The reception will run from 5:00 PM to 7:00 PM. For more information\, please call 956-216-4901.\n
LOCATION:Harlingen Arts & Heritage Museum
UID:e.1828.1595
SEQUENCE:3
DTSTAMP:20260422T130528Z
URL:https://business.harlingen.com/events/details/rio-grande-valley-birding-festival-reception-11-11-2009-1595
END:VEVENT

END:VCALENDAR
