BEGIN:VCALENDAR
VERSION:2.0
PRODID:-//ChamberMaster//Event Calendar 2.0//EN
METHOD:PUBLISH
X-PUBLISHED-TTL:P3D
REFRESH-INTERVAL:P3D
CALSCALE:GREGORIAN
BEGIN:VEVENT
DTSTART:20120315T130000Z
DTEND:20120315T220000Z
X-MICROSOFT-CDO-ALLDAYEVENT:FALSE
SUMMARY:Rio Grande Valley Border Senior Games
DESCRIPTION:For information call City of Harlingen\, Parks & Recreation Dept. Esmeralda Martinez 956-216-5950 or e-mail emartinez@myharlingen.us
X-ALT-DESC;FMTTYPE=text/html:For information call City of Harlingen\, Parks & Recreation Dept. Esmeralda Martinez 956-216-5950 or e-mail emartinez@myharlingen.us
LOCATION:
UID:e.1828.3578
SEQUENCE:3
DTSTAMP:20260420T182032Z
URL:https://business.harlingen.com/events/details/rio-grande-valley-border-senior-games-03-15-2012-3578
END:VEVENT

END:VCALENDAR
