BEGIN:VCALENDAR
VERSION:2.0
PRODID:-//ChamberMaster//Event Calendar 2.0//EN
METHOD:PUBLISH
X-PUBLISHED-TTL:P3D
REFRESH-INTERVAL:P3D
CALSCALE:GREGORIAN
BEGIN:VEVENT
DTSTART;VALUE=DATE:20110226
DTEND;VALUE=DATE:20110227
TRANSP:TRANSPARENT
X-MICROSOFT-CDO-ALLDAYEVENT:TRUE
SUMMARY:Rio Grande Valley Killer Bees
DESCRIPTION:Harlingen Chamber Night come on out and have some FUN! \nKiller Bees VS Laredo Bucks\n\nGame Date: Feb. 26th\, 2011\nDoors Open: 6:30 PM\nGame Time: 7:30 PM\n\n\n1.000 Free Sun Visors and $1.50 Beers with the Killer Bees!\n\nQuestions contact Shannon at 956-423-5440 or ssullivan@harlingen.com
X-ALT-DESC;FMTTYPE=text/html:Harlingen Chamber Night come on out and have some FUN! \nKiller Bees VS Laredo Bucks\n\nGame Date: Feb. 26th\, 2011\nDoors Open: 6:30 PM\nGame Time: 7:30 PM\n\n\n1.000 Free Sun Visors and $1.50 Beers with the Killer Bees!\n\nQuestions contact Shannon at 956-423-5440 or ssullivan@harlingen.com
LOCATION:
UID:e.1828.2976
SEQUENCE:3
DTSTAMP:20260421T142216Z
URL:https://business.harlingen.com/events/details/rio-grande-valley-killer-bees-02-26-2011-2976
END:VEVENT

END:VCALENDAR
