BEGIN:VCALENDAR
VERSION:2.0
PRODID:-//ChamberMaster//Event Calendar 2.0//EN
METHOD:PUBLISH
X-PUBLISHED-TTL:P3D
REFRESH-INTERVAL:P3D
CALSCALE:GREGORIAN
BEGIN:VEVENT
DTSTART;VALUE=DATE:20110215
DTEND;VALUE=DATE:20110221
TRANSP:TRANSPARENT
X-MICROSOFT-CDO-ALLDAYEVENT:TRUE
SUMMARY:Rio Grande Valley Music Festival
DESCRIPTION:Five Full Days\, Gospel Jam 9-12 Sunday\, Country\, Bluegrass\, Folk & Western Music - 5 Stages\, Two indoors Jamming Tents\, Workshops\, Arts\, Crafts & Food Vendors and special Mariachi & Folkloric evening performances. \nBring instruments and lawn chairs. RV camping on site phone # 956-565-2456 *NO ALCOHOL OR DRUGS* For  information visit web site @ www.rgvmf.com or phone # 956-373-0130.  Proceeds go to supporting music education for valley students.  Gates open at 8am\, Music starts at 9am\, Biscuit & Gravy Breakfast 8-11am\, Admission $8. Tuesday- thur- Saturday\, 5 Day Tickets $25.  Parking Free Kids under 12 Free.
X-ALT-DESC;FMTTYPE=text/html:Five Full Days\, Gospel Jam 9-12 Sunday\, Country\, Bluegrass\, Folk & Western Music - 5 Stages\, Two indoors Jamming Tents\, Workshops\, Arts\, Crafts & Food Vendors and special Mariachi & Folkloric evening performances. \nBring instruments and lawn chairs. RV camping on site phone # 956-565-2456 *NO ALCOHOL OR DRUGS* For  information visit web site @ www.rgvmf.com or phone # 956-373-0130.  Proceeds go to supporting music education for valley students.  Gates open at 8am\, Music starts at 9am\, Biscuit & Gravy Breakfast 8-11am\, Admission $8. Tuesday- thur- Saturday\, 5 Day Tickets $25.  Parking Free Kids under 12 Free.
LOCATION:
UID:e.1828.2827
SEQUENCE:3
DTSTAMP:20260421T142833Z
URL:https://business.harlingen.com/events/details/rio-grande-valley-music-festival-02-15-2011-2827
END:VEVENT

END:VCALENDAR
