BEGIN:VCALENDAR
VERSION:2.0
PRODID:-//ChamberMaster//Event Calendar 2.0//EN
METHOD:PUBLISH
X-PUBLISHED-TTL:P3D
REFRESH-INTERVAL:P3D
CALSCALE:GREGORIAN
BEGIN:VEVENT
DTSTART;VALUE=DATE:20110806
DTEND;VALUE=DATE:20110807
TRANSP:TRANSPARENT
X-MICROSOFT-CDO-ALLDAYEVENT:TRUE
SUMMARY:Rio Grande Valley Premium Outlets®/Summer Music Series Presented by Coca-Cola
DESCRIPTION:Rio Grande Valley Premium Outlets® \nSummer Music Series Presented by Coca-Cola\nEnjoy live entertainment\, weekends\, at the Food Court Patio from 4pm - 6pm \nSat\, July 16: Philosopher Dave\nSat\, July 23: The Chimies \nSat\, July 30: Personal Use \nSat\, Aug 6: Marshall Law \nSat\, Aug 13: The Chris Rivera Band \nSat\, Aug 20: Tanke \nSat\, Aug 27: Retrospect \nAll performances are weather permitting. Artists and times subject to change.
X-ALT-DESC;FMTTYPE=text/html:Rio Grande Valley Premium Outlets® \nSummer Music Series Presented by Coca-Cola\nEnjoy live entertainment\, weekends\, at the Food Court Patio from 4pm - 6pm \nSat\, July 16: Philosopher Dave\nSat\, July 23: The Chimies \nSat\, July 30: Personal Use \nSat\, Aug 6: Marshall Law \nSat\, Aug 13: The Chris Rivera Band \nSat\, Aug 20: Tanke \nSat\, Aug 27: Retrospect \nAll performances are weather permitting. Artists and times subject to change.\n
LOCATION:
UID:e.1828.3114
SEQUENCE:3
DTSTAMP:20260421T053129Z
URL:https://business.harlingen.com/events/details/rio-grande-valley-premium-outlets-summer-music-series-presented-by-coca-cola-08-06-2011-3114
END:VEVENT

END:VCALENDAR
