BEGIN:VCALENDAR
VERSION:2.0
PRODID:-//ChamberMaster//Event Calendar 2.0//EN
METHOD:PUBLISH
X-PUBLISHED-TTL:P3D
REFRESH-INTERVAL:P3D
CALSCALE:GREGORIAN
BEGIN:VEVENT
DTSTART:20110827T210000Z
DTEND:20110827T230000Z
X-MICROSOFT-CDO-ALLDAYEVENT:FALSE
SUMMARY:Rio Grande Valley Premium Outlets®/Summer Music Series Presented by Coca-Cola
DESCRIPTION:Rio Grande Valley Premium Outlets® \nSummer Music Series Presented by Coca-Cola\nEnjoy live entertainment\, weekends\, at the Food Court Patio from 4pm - 6pm \n\nSat\, Aug 27: Retrospect \nAll performances are weather permitting. Artists and times subject to change.
X-ALT-DESC;FMTTYPE=text/html:Rio Grande Valley Premium Outlets® \nSummer Music Series Presented by Coca-Cola\nEnjoy live entertainment\, weekends\, at the Food Court Patio from 4pm - 6pm \n\nSat\, Aug 27: Retrospect \nAll performances are weather permitting. Artists and times subject to change.\n
LOCATION:
UID:e.1828.3117
SEQUENCE:3
DTSTAMP:20260421T053054Z
URL:https://business.harlingen.com/events/details/rio-grande-valley-premium-outlets-summer-music-series-presented-by-coca-cola-08-27-2011-3117
END:VEVENT

END:VCALENDAR
