BEGIN:VCALENDAR
VERSION:2.0
PRODID:-//ChamberMaster//Event Calendar 2.0//EN
METHOD:PUBLISH
X-PUBLISHED-TTL:P3D
REFRESH-INTERVAL:P3D
CALSCALE:GREGORIAN
BEGIN:VEVENT
DTSTART:20100630T160500Z
DTEND:20100630T160500Z
X-MICROSOFT-CDO-ALLDAYEVENT:FALSE
SUMMARY:Rio Grande Valley School of Baseball
DESCRIPTION:Rio Grande Valley School of Baseball sponsored by the Rio Grande Valley White Wings vs. Laredo\, June 30th at 11:05 a.m.  Reserved Grandstand Tickets - $5 each.  Special Lunch to include: Hot Dog\, Soda and Chips.\nThis outing/field trip will be a fun way to cap off the 2009/2010 school year. This is a great opportunity for kids who may not get the opportunity to attend a professional baseball game to see a real professional game in person. Kids can use the outing to learn Math and Statistics. Teachers can bring the game back to the classroom to teach addition\, division and percentages.  Principals and teachers\, please RSVP Cory Dirksen or Christina Dirksen (956-423-9464\, 956-423-9466(fax) or cory@whitewingsbaseball.com) with the WhiteWings ASAP with a rough estimate of the number of students you would have attending. Final numbers and ticket money will be due two weeks prior to your game. Children will be allowed to go to the buses with adult supervision to eat sack lunches they have brought. We're sorry\, but no outside soda or food can be allowed in the stadium due to contractual constraints.  1216 Fair Park Blvd * Harlingen\, TX 78550 * www.whitewingsbaseball.com\n(956) 423-9464 Fax (956) 423-9466.
X-ALT-DESC;FMTTYPE=text/html:Rio Grande Valley School of Baseball sponsored by the Rio Grande Valley White Wings vs. Laredo\, June 30th at 11:05 a.m.  Reserved Grandstand Tickets - $5 each.  Special Lunch to include: Hot Dog\, Soda and Chips.\nThis outing/field trip will be a fun way to cap off the 2009/2010 school year. This is a great opportunity for kids who may not get the opportunity to attend a professional baseball game to see a real professional game in person. Kids can use the outing to learn Math and Statistics. Teachers can bring the game back to the classroom to teach addition\, division and percentages.  Principals and teachers\, please RSVP Cory Dirksen or Christina Dirksen (956-423-9464\, 956-423-9466(fax) or cory@whitewingsbaseball.com) with the WhiteWings ASAP with a rough estimate of the number of students you would have attending. Final numbers and ticket money will be due two weeks prior to your game. Children will be allowed to go to the buses with adult supervision to eat sack lunches they have brought. We're sorry\, but no outside soda or food can be allowed in the stadium due to contractual constraints.  1216 Fair Park Blvd * Harlingen\, TX 78550 * www.whitewingsbaseball.com\n(956) 423-9464 Fax (956) 423-9466.
LOCATION:
UID:e.1828.2544
SEQUENCE:3
DTSTAMP:20260422T031544Z
URL:https://business.harlingen.com/events/details/rio-grande-valley-school-of-baseball-06-30-2010-2544
END:VEVENT

END:VCALENDAR
