BEGIN:VCALENDAR
VERSION:2.0
PRODID:-//ChamberMaster//Event Calendar 2.0//EN
METHOD:PUBLISH
X-PUBLISHED-TTL:P3D
REFRESH-INTERVAL:P3D
CALSCALE:GREGORIAN
BEGIN:VEVENT
DTSTART:20120505T150000Z
DTEND:20120506T190000Z
X-MICROSOFT-CDO-ALLDAYEVENT:FALSE
SUMMARY:Rio Grande Valley WhiteWings 2012 Annual Baseball Skills Clinic
DESCRIPTION:Saturday\, May 5\, 2012 and Sunday\, May 6\, 2012 \n10:00 a.m. - 2:00 p.m. Daily   \n\nFeatured baseball instructors:  Eddie Dennis\, Field Manager RGV WhiteWings Former Big Leaguer and Rafael Reyes Current Signed WhiteWings Players \nHarlingen Field\, Harlingen\nOpen to ages 5 and up. \nCost $125.00 per player with lunch included each day.\nRegistration for this event is required and must be completed by May 3\, 2012. \nAll campers receive a T-Shirt and cap.  \nClinic will feature separate instruction for baseball in all areas of offense\, defense\, pitching and catching.  Each camper will need to bring a glove\, cleats\, bat\, helmet (if possible) and comfortable practice clothes.  For more information contact WhiteWings General Manager\, Doug Robinson\, or Director of Community Relations\, Luis Garcia at (956) 423-WING (9464) or e-mail at lgarcia@whitewingsbaseball.net .
X-ALT-DESC;FMTTYPE=text/html:Saturday\, May 5\, 2012 and Sunday\, May 6\, 2012 \n10:00 a.m. - 2:00 p.m. Daily   \n\nFeatured baseball instructors:  Eddie Dennis\, Field Manager RGV WhiteWings Former Big Leaguer and Rafael Reyes Current Signed WhiteWings Players \nHarlingen Field\, Harlingen\nOpen to ages 5 and up. \nCost $125.00 per player with lunch included each day.\nRegistration for this event is required and must be completed by May 3\, 2012. \nAll campers receive a T-Shirt and cap.  \nClinic will feature separate instruction for baseball in all areas of offense\, defense\, pitching and catching.  Each camper will need to bring a glove\, cleats\, bat\, helmet (if possible) and comfortable practice clothes.  For more information contact WhiteWings General Manager\, Doug Robinson\, or Director of Community Relations\, Luis Garcia at (956) 423-WING (9464) or e-mail at lgarcia@whitewingsbaseball.net . \n \n
LOCATION:
UID:e.1828.3627
SEQUENCE:3
DTSTAMP:20260420T151119Z
URL:https://business.harlingen.com/events/details/rio-grande-valley-whitewings-2012-annual-baseball-skills-clinic-05-05-2012-3627
END:VEVENT

END:VCALENDAR
