BEGIN:VCALENDAR
VERSION:2.0
PRODID:-//ChamberMaster//Event Calendar 2.0//EN
METHOD:PUBLISH
X-PUBLISHED-TTL:P3D
REFRESH-INTERVAL:P3D
CALSCALE:GREGORIAN
BEGIN:VEVENT
DTSTART:20120118T210000Z
DTEND:20120118T210000Z
X-MICROSOFT-CDO-ALLDAYEVENT:FALSE
SUMMARY:Rio Grande Valley WhiteWings Press Conference
DESCRIPTION:Press Conference set for January 18th\, come and meet the Wings new general manager. The Rio Grande Valley WhiteWings are holding a press conference at 3 pm on Wednesday\, January 18th\, at which time the ballclub's new general manager will be introduced.  He also will outline some of the plans for the North American League Southern Division champions for 2012 and beyond.  The meeting will be held at historic Harlingen Field.\nWhen:  Wednesday\, January 18 at 3:00 pm\nWhere: Harlingen Field\nWho:     WhiteWings new general manager\nFor more information\, contact Jerry Deal (210) 902-6328
X-ALT-DESC;FMTTYPE=text/html:Press Conference set for January 18th\, come and meet the Wings new general manager. The Rio Grande Valley WhiteWings are holding a press conference at 3 pm on Wednesday\, January 18th\, at which time the ballclub's new general manager will be introduced.  He also will outline some of the plans for the North American League Southern Division champions for 2012 and beyond.  The meeting will be held at historic Harlingen Field.\nWhen:  Wednesday\, January 18 at 3:00 pm\nWhere: Harlingen Field\nWho:     WhiteWings new general manager\nFor more information\, contact Jerry Deal (210) 902-6328\n
LOCATION:
UID:e.1828.3378
SEQUENCE:3
DTSTAMP:20260420T225414Z
URL:https://business.harlingen.com/events/details/rio-grande-valley-whitewings-press-conference-01-18-2012-3378
END:VEVENT

END:VCALENDAR
