BEGIN:VCALENDAR
VERSION:2.0
PRODID:-//ChamberMaster//Event Calendar 2.0//EN
METHOD:PUBLISH
X-PUBLISHED-TTL:P3D
REFRESH-INTERVAL:P3D
CALSCALE:GREGORIAN
BEGIN:VEVENT
DTSTART:20120623T000500Z
DTEND:20120623T000500Z
X-MICROSOFT-CDO-ALLDAYEVENT:FALSE
SUMMARY:Rio Grande Valley WhiteWings "The Great Airplane Toss!"
DESCRIPTION:This is a new and exciting era for the Rio Grande Valley WhiteWings! They are bringing back a "blast from the past" promotion that was a proven success more than a decade ago. The Valley Morning Star and the Brownsville Herald are partnering with the WhiteWings to bring this event to Harlingen Field during Friday's home game.   It's the  \nGreat Airplane Toss\, which will take place at the WhiteWings game against the McAllen Thunder on Friday\, June 22nd at 7:05 p.m.\n \nThe winner of the airplane toss will win two round trip tickets to any place that Southwest Airlines flies\, including California\, New York or Florida!
X-ALT-DESC;FMTTYPE=text/html:This is a new and exciting era for the Rio Grande Valley WhiteWings! They are bringing back a "blast from the past" promotion that was a proven success more than a decade ago. The Valley Morning Star and the Brownsville Herald are partnering with the WhiteWings to bring this event to Harlingen Field during Friday's home game.   It's the  \nGreat Airplane Toss\, which will take place at the WhiteWings game against the McAllen Thunder on Friday\, June 22nd at 7:05 p.m.\n \nThe winner of the airplane toss will win two round trip tickets to any place that Southwest Airlines flies\, including California\, New York or Florida!\n
LOCATION:
UID:e.1828.3779
SEQUENCE:3
DTSTAMP:20260420T150116Z
URL:https://business.harlingen.com/events/details/rio-grande-valley-whitewings-the-great-airplane-toss-06-22-2012-3779
END:VEVENT

END:VCALENDAR
