BEGIN:VCALENDAR
VERSION:2.0
PRODID:-//ChamberMaster//Event Calendar 2.0//EN
METHOD:PUBLISH
X-PUBLISHED-TTL:P3D
REFRESH-INTERVAL:P3D
CALSCALE:GREGORIAN
BEGIN:VEVENT
DTSTART:20091206T003000Z
DTEND:20091206T003000Z
X-MICROSOFT-CDO-ALLDAYEVENT:FALSE
SUMMARY:Rio Hondo Christmas Parade & Bazaar
DESCRIPTION:Registration forms will be available on the city website at www.cityofriohondo.com/events.  For more information\, please contact Brianna at 956-748-2102.
X-ALT-DESC;FMTTYPE=text/html:Registration forms will be available on the city website at www.cityofriohondo.com/events.  For more information\, please contact Brianna at 956-748-2102.
LOCATION:
UID:e.1828.2207
SEQUENCE:3
DTSTAMP:20260422T125836Z
URL:https://business.harlingen.com/events/details/rio-hondo-christmas-parade-bazaar-12-05-2009-2207
END:VEVENT

END:VCALENDAR
