BEGIN:VCALENDAR
VERSION:2.0
PRODID:-//ChamberMaster//Event Calendar 2.0//EN
METHOD:PUBLISH
X-PUBLISHED-TTL:P3D
REFRESH-INTERVAL:P3D
CALSCALE:GREGORIAN
BEGIN:VEVENT
DTSTART:20091022T140000Z
DTEND:20091022T200000Z
X-MICROSOFT-CDO-ALLDAYEVENT:FALSE
SUMMARY:Rio South Texas Small Business Summit
DESCRIPTION:Welcome Reception October 21\, 2009 from 5:30 to 7 p.m. at the McAllen Convention Center\, Room 101.  Summit\nOctober 22\, 2009 from 9 a.m. to 3 p.m. at the McAllen Convention Center\, Exhibit Hall B.  The Office of the Governor Small Business Advocacy\, in collaboration with the Rio South Texas Economic Development Community is co-hosting a free Small Business Summit on October 22\, 2009. The Rio South Texas Small Business Summit\, reception and luncheon are open to small business owners and entrepreneurs in the Rio South Texas region. \nVarious state agencies will be exhibiting and will be on hand to discuss potential contracts. Breakout sessions will also be held to inform business owners on issues such as Financing Business Growth & Expansion\, Finding and Developing a Capable Workforce\, Exporting\, Bonding and State Government Contracting.  You must register to attend. Registration must be completed no later than October 13\, 2009. For more information\, please call 956-682-2875 or visit the McAllen EDC website at www.medc.org
X-ALT-DESC;FMTTYPE=text/html:Welcome Reception October 21\, 2009 from 5:30 to 7 p.m. at the McAllen Convention Center\, Room 101.  Summit\nOctober 22\, 2009 from 9 a.m. to 3 p.m. at the McAllen Convention Center\, Exhibit Hall B.  The Office of the Governor Small Business Advocacy\, in collaboration with the Rio South Texas Economic Development Community is co-hosting a free Small Business Summit on October 22\, 2009. The Rio South Texas Small Business Summit\, reception and luncheon are open to small business owners and entrepreneurs in the Rio South Texas region. \nVarious state agencies will be exhibiting and will be on hand to discuss potential contracts. Breakout sessions will also be held to inform business owners on issues such as Financing Business Growth & Expansion\, Finding and Developing a Capable Workforce\, Exporting\, Bonding and State Government Contracting.  You must register to attend. Registration must be completed no later than October 13\, 2009. For more information\, please call 956-682-2875 or visit the McAllen EDC website at www.medc.org
LOCATION:
UID:e.1828.2152
SEQUENCE:3
DTSTAMP:20260422T111834Z
URL:https://business.harlingen.com/events/details/rio-south-texas-small-business-summit-10-22-2009-2152
END:VEVENT

END:VCALENDAR
