BEGIN:VCALENDAR
VERSION:2.0
PRODID:-//ChamberMaster//Event Calendar 2.0//EN
METHOD:PUBLISH
X-PUBLISHED-TTL:P3D
REFRESH-INTERVAL:P3D
CALSCALE:GREGORIAN
BEGIN:VEVENT
DTSTART:20110113T133000Z
DTEND:20110113T213000Z
X-MICROSOFT-CDO-ALLDAYEVENT:FALSE
SUMMARY:Rio South Texas Small Business Summit 2011
DESCRIPTION:Featuring information on Texas Back to Work\, 1099 Reporting\, Financing\, Human Resources\, Sate & Federal Regulations\, Business Resources\, Healthy Texas\, and much more. Call UTPA at (956) 665-7535 or log on to www.mcallenedc.org/sbs to register and find more info! View Save the Date!
X-ALT-DESC;FMTTYPE=text/html:Featuring information on Texas Back to Work\, 1099 Reporting\, Financing\, Human Resources\, Sate & Federal Regulations\, Business Resources\, Healthy Texas\, and much more. Call UTPA at (956) 665-7535 or log on to www.mcallenedc.org/sbs to register and find more info! View Save the Date! \n\n
LOCATION:
UID:e.1828.2886
SEQUENCE:3
DTSTAMP:20260421T154626Z
URL:https://business.harlingen.com/events/details/rio-south-texas-small-business-summit-2011-01-13-2011-2886
END:VEVENT

END:VCALENDAR
