BEGIN:VCALENDAR
VERSION:2.0
PRODID:-//ChamberMaster//Event Calendar 2.0//EN
METHOD:PUBLISH
X-PUBLISHED-TTL:P3D
REFRESH-INTERVAL:P3D
CALSCALE:GREGORIAN
BEGIN:VEVENT
DTSTART:20121107T163000Z
DTEND:20121107T163000Z
X-MICROSOFT-CDO-ALLDAYEVENT:FALSE
SUMMARY:Rocking K Realty & Auction 20th Anniversary Celebration and Ribbon Cutting
DESCRIPTION:Join us as we celebrate 20 years!!
X-ALT-DESC;FMTTYPE=text/html:Join us as we celebrate 20 years!! \n
LOCATION:
UID:e.1828.4087
SEQUENCE:3
DTSTAMP:20260420T124750Z
URL:https://business.harlingen.com/events/details/rocking-k-realty-auction-20th-anniversary-celebration-and-ribbon-cutting-11-07-2012-4087
END:VEVENT

END:VCALENDAR
