BEGIN:VCALENDAR
VERSION:2.0
PRODID:-//ChamberMaster//Event Calendar 2.0//EN
METHOD:PUBLISH
X-PUBLISHED-TTL:P3D
REFRESH-INTERVAL:P3D
CALSCALE:GREGORIAN
BEGIN:VEVENT
DTSTART;VALUE=DATE:20120302
DTEND;VALUE=DATE:20120303
TRANSP:TRANSPARENT
X-MICROSOFT-CDO-ALLDAYEVENT:TRUE
SUMMARY:Rod Trade-In Bass Pro Shops 2012 Spring Fishing Classics
DESCRIPTION:March 2-6\, 2012\nPass-It-On Booth \nLocated near the  front entrance of the door. Customer can bring their rod (which will be inspected that it is in good working condition) and will receive a discount coupon to use towards their new rod. \nAll  collected rods will be donated to local youth organization\, Fishing's Future and Las Huellas to help with their  outdoor education program.\n\nContact information Elizabeth Ulloa Promotions Coordinator mail to:eulloa@basspro.com
X-ALT-DESC;FMTTYPE=text/html:March 2-6\, 2012\nPass-It-On Booth \nLocated near the  front entrance of the door. Customer can bring their rod (which will be inspected that it is in good working condition) and will receive a discount coupon to use towards their new rod. \nAll  collected rods will be donated to local youth organization\, Fishing's Future and Las Huellas to help with their  outdoor education program.\n\nContact information Elizabeth Ulloa Promotions Coordinator mail to:eulloa@basspro.com
LOCATION:
UID:e.1828.3535
SEQUENCE:3
DTSTAMP:20260420T182224Z
URL:https://business.harlingen.com/events/details/rod-trade-in-bass-pro-shops-2012-spring-fishing-classics-03-02-2012-3535
END:VEVENT

END:VCALENDAR
