BEGIN:VCALENDAR
VERSION:2.0
PRODID:-//ChamberMaster//Event Calendar 2.0//EN
METHOD:PUBLISH
X-PUBLISHED-TTL:P3D
REFRESH-INTERVAL:P3D
CALSCALE:GREGORIAN
BEGIN:VEVENT
DTSTART:20111209T000000Z
DTEND:20111209T020000Z
X-MICROSOFT-CDO-ALLDAYEVENT:FALSE
SUMMARY:Ronald McDonald "Light the House"
DESCRIPTION:Holiday Open House\, Lighting Ceremony at Ronald McDonald House\, Harlingen.\nRefreshments\, Entertainment and Santa
X-ALT-DESC;FMTTYPE=text/html:Holiday Open House\, Lighting Ceremony at Ronald McDonald House\, Harlingen.\nRefreshments\, Entertainment and Santa\n
LOCATION:
UID:e.1828.3259
SEQUENCE:3
DTSTAMP:20260420T225434Z
URL:https://business.harlingen.com/events/details/ronald-mcdonald-light-the-house-12-08-2011-3259
END:VEVENT

END:VCALENDAR
