BEGIN:VCALENDAR
VERSION:2.0
PRODID:-//ChamberMaster//Event Calendar 2.0//EN
METHOD:PUBLISH
X-PUBLISHED-TTL:P3D
REFRESH-INTERVAL:P3D
CALSCALE:GREGORIAN
BEGIN:VEVENT
DTSTART:20091022T223000Z
DTEND:20091023T003000Z
X-MICROSOFT-CDO-ALLDAYEVENT:FALSE
SUMMARY:Ronald McDonald Open House Shower sponsored by the Junior League of Harlingen
DESCRIPTION:Ronald McDonald House Charities of the Rio Grande Valley supports our community and provides a home-away-from-home for families of children who are receiving treatment at local hospitals and clinics. \n\n\n    We hope you will support The Ronald McDonald House by joining us and donating items from their WISH LIST.\n    All items should be new for the health and safety of the families. \n\n\n    For more information\, please contact Anna Farris with the Harlingen Junior League at (956) 266-1459.
X-ALT-DESC;FMTTYPE=text/html:<p>\n    <span style="FONT-SIZE: 10pt\; COLOR: #857458\; FONT-FAMILY: 'Arial'\,'sans-serif'\; mso-fareast-font-family: 'Times New Roman'\; mso-ansi-language: EN-US\; mso-fareast-language: EN-US\; mso-bidi-language: AR-SA">Ronald McDonald House Charities of the Rio Grande Valley supports our community and provides a home-away-from-home for families of children who are receiving treatment at local hospitals and clinics. </span>\n</p>\n<p>\n    <span style="FONT-SIZE: 10pt\; COLOR: #857458\; FONT-FAMILY: 'Arial'\,'sans-serif'\; mso-fareast-font-family: 'Times New Roman'\; mso-ansi-language: EN-US\; mso-fareast-language: EN-US\; mso-bidi-language: AR-SA">We hope you will support The Ronald McDonald House by joining us and donating items from their <strong><span style="COLOR: blue\; FONT-FAMILY: 'Arial'\,'sans-serif'"><a href="http://harlingentxcoc.weblinkconnect.com/cwt/external/wcpages/wcwebcontent/webcontentpage.aspx?contentid=122">WISH LIST</a></span></strong>.\n    All items should be new for the health and safety of the families.&nbsp\;</span>\n</p>\n<p>\n    <span style="FONT-SIZE: 10pt\; COLOR: #857458\; FONT-FAMILY: 'Arial'\,'sans-serif'\; mso-fareast-font-family: 'Times New Roman'\; mso-ansi-language: EN-US\; mso-fareast-language: EN-US\; mso-bidi-language: AR-SA">For more information\, please contact Anna Farris with the Harlingen Junior League at (956) 266-1459.</span>\n</p>
LOCATION:
UID:e.1828.2151
SEQUENCE:3
DTSTAMP:20260422T112515Z
URL:https://business.harlingen.com/events/details/ronald-mcdonald-open-house-shower-sponsored-by-the-junior-league-of-harlingen-10-22-2009-2151
END:VEVENT

END:VCALENDAR
