BEGIN:VCALENDAR
VERSION:2.0
PRODID:-//ChamberMaster//Event Calendar 2.0//EN
METHOD:PUBLISH
X-PUBLISHED-TTL:P3D
REFRESH-INTERVAL:P3D
CALSCALE:GREGORIAN
BEGIN:VEVENT
DTSTART:20090925T180000Z
DTEND:20090925T180000Z
X-MICROSOFT-CDO-ALLDAYEVENT:FALSE
SUMMARY:Rotary Club of Harlingen 2009 Benefit Golf Tournament
DESCRIPTION:4-man scramble or enter as individual.  Team handicap must be 45 with only one single digit handicap.  2 Mulligans included in entry fee.  Tiger Woods hole $10.  Individual player $100\, Hole Sponsor $150\, 4-man team $400.  Hole & Team Sponsor $500.  Prizes\, catered dinner & goodie bags!  Prize money 1st place $600\, 2nd place $400 & 3rd place $200.  For more information please contact Kathy Preddy at 956-536-7218\, Tre Peacock at 956-423-6733 or Bea Cardenas at 956-535-2420.
X-ALT-DESC;FMTTYPE=text/html:4-man scramble or enter as individual.  Team handicap must be 45 with only one single digit handicap.  2 Mulligans included in entry fee.  Tiger Woods hole $10.  Individual player $100\, Hole Sponsor $150\, 4-man team $400.  Hole & Team Sponsor $500.  Prizes\, catered dinner & goodie bags!  Prize money 1st place $600\, 2nd place $400 & 3rd place $200.  For more information please contact Kathy Preddy at 956-536-7218\, Tre Peacock at 956-423-6733 or Bea Cardenas at 956-535-2420.
LOCATION:
UID:e.1828.2091
SEQUENCE:3
DTSTAMP:20260422T112515Z
URL:https://business.harlingen.com/events/details/rotary-club-of-harlingen-2009-benefit-golf-tournament-09-25-2009-2091
END:VEVENT

END:VCALENDAR
